BEGIN:VCALENDAR
VERSION:2.0
PRODID:-//Ruthin Town Hall - ECPv6.15.12.1//NONSGML v1.0//EN
CALSCALE:GREGORIAN
METHOD:PUBLISH
X-ORIGINAL-URL:https://ruthinmarkethall.com
X-WR-CALDESC:Events for Ruthin Town Hall
REFRESH-INTERVAL;VALUE=DURATION:PT1H
X-Robots-Tag:noindex
X-PUBLISHED-TTL:PT1H
BEGIN:VTIMEZONE
TZID:Europe/London
BEGIN:DAYLIGHT
TZOFFSETFROM:+0000
TZOFFSETTO:+0100
TZNAME:BST
DTSTART:20240331T010000
END:DAYLIGHT
BEGIN:STANDARD
TZOFFSETFROM:+0100
TZOFFSETTO:+0000
TZNAME:GMT
DTSTART:20241027T010000
END:STANDARD
BEGIN:DAYLIGHT
TZOFFSETFROM:+0000
TZOFFSETTO:+0100
TZNAME:BST
DTSTART:20250330T010000
END:DAYLIGHT
BEGIN:STANDARD
TZOFFSETFROM:+0100
TZOFFSETTO:+0000
TZNAME:GMT
DTSTART:20251026T010000
END:STANDARD
BEGIN:DAYLIGHT
TZOFFSETFROM:+0000
TZOFFSETTO:+0100
TZNAME:BST
DTSTART:20260329T010000
END:DAYLIGHT
BEGIN:STANDARD
TZOFFSETFROM:+0100
TZOFFSETTO:+0000
TZNAME:GMT
DTSTART:20261025T010000
END:STANDARD
END:VTIMEZONE
BEGIN:VEVENT
DTSTART;TZID=Europe/London:20250307T180000
DTEND;TZID=Europe/London:20250307T210000
DTSTAMP:20260424T093416
CREATED:20250212T145448Z
LAST-MODIFIED:20250306T181847Z
UID:4314-1741370400-1741381200@ruthinmarkethall.com
SUMMARY:CANCELLED Ruthin Pop Up Takeaway and Restaurant
DESCRIPTION:***unfortunately Mad Moo are having to cancel this event but will be rearranging for another date soon****\n\n Get ready for a burger bonanza in Ruthin! Mad Moo is popping up at the historic Ruthin Market Hall for a special event!\n Indulge in our signature juicy burgers\, crispy bacon baps\, and more!\n Enjoy a selection of refreshing drinks.\n Support our Pay It Forward scheme and help us give back to the community.\nWhether you're a burger enthusiast or simply looking for a meal out\, this event is not to be missed!\nDine-in and takeaway options available.\nFollow us on Facebook for updates and sneak peeks at the menu!
URL:https://ruthinmarkethall.com/event/ruthin-pop-up-takeaway-and-restaurant/
LOCATION:Ruthin Market Hall\, Market Street\, Ruthin\, LL151BE\, United Kingdom
CATEGORIES:Pop up Restaurant
ATTACH;FMTTYPE=image/jpeg:https://ruthinmarkethall.com/wp-content/uploads/2025/02/475981200_648188521212230_8748587971142043231_n.jpg
ORGANIZER;CN="Ruthin Artisan Markets CIC":MAILTO:ruthinmarkethall@artisanmarkets.wales
END:VEVENT
END:VCALENDAR