BEGIN:VCALENDAR
VERSION:2.0
PRODID:-//Ruthin Town Hall - ECPv6.15.12.1//NONSGML v1.0//EN
CALSCALE:GREGORIAN
METHOD:PUBLISH
X-WR-CALNAME:Ruthin Town Hall
X-ORIGINAL-URL:https://ruthinmarkethall.com
X-WR-CALDESC:Events for Ruthin Town Hall
REFRESH-INTERVAL;VALUE=DURATION:PT1H
X-Robots-Tag:noindex
X-PUBLISHED-TTL:PT1H
BEGIN:VTIMEZONE
TZID:Europe/London
BEGIN:DAYLIGHT
TZOFFSETFROM:+0000
TZOFFSETTO:+0100
TZNAME:BST
DTSTART:20250330T010000
END:DAYLIGHT
BEGIN:STANDARD
TZOFFSETFROM:+0100
TZOFFSETTO:+0000
TZNAME:GMT
DTSTART:20251026T010000
END:STANDARD
BEGIN:DAYLIGHT
TZOFFSETFROM:+0000
TZOFFSETTO:+0100
TZNAME:BST
DTSTART:20260329T010000
END:DAYLIGHT
BEGIN:STANDARD
TZOFFSETFROM:+0100
TZOFFSETTO:+0000
TZNAME:GMT
DTSTART:20261025T010000
END:STANDARD
BEGIN:DAYLIGHT
TZOFFSETFROM:+0000
TZOFFSETTO:+0100
TZNAME:BST
DTSTART:20270328T010000
END:DAYLIGHT
BEGIN:STANDARD
TZOFFSETFROM:+0100
TZOFFSETTO:+0000
TZNAME:GMT
DTSTART:20271031T010000
END:STANDARD
END:VTIMEZONE
BEGIN:VEVENT
DTSTART;TZID=Europe/London:20260404T190000
DTEND;TZID=Europe/London:20260404T220000
DTSTAMP:20260424T122843
CREATED:20250927T103925Z
LAST-MODIFIED:20260404T110930Z
UID:5607-1775329200-1775340000@ruthinmarkethall.com
SUMMARY:Stupid Girl - Pink Tribute Band
DESCRIPTION:An incredible live show featuring the remarkable catalogue of the American Grammy award winner\, P!nk. \nLed by Emily Clark\, Stupid Girl band deliver an authentic and energetic live experience\, complete with multiple costume changes\, covering a wide range of songs from P!nk’s stunning twenty-year career. \nYou will be entertained not only by a remarkable P!nk\, but also by a full live band\, authentically replicating the concert experience.
URL:https://ruthinmarkethall.com/event/stupid-girl-pink-tribute-band/
LOCATION:The Assembly Room / Yr Ystafell Ymgynnull\, The Assembly Room / Yr Ystafell Ymgynnull\, Ruthin\, Denbighshire\, LL15 1AS\, United Kingdom
CATEGORIES:Music
ATTACH;FMTTYPE=image/jpeg:https://ruthinmarkethall.com/wp-content/uploads/2025/09/logo.jpg
ORGANIZER;CN="Ruthin Artisan Markets CIC":MAILTO:ruthinmarkethall@artisanmarkets.wales
END:VEVENT
END:VCALENDAR