BEGIN:VCALENDAR
VERSION:2.0
PRODID:-//Ruthin Town Hall - ECPv6.15.12.1//NONSGML v1.0//EN
CALSCALE:GREGORIAN
METHOD:PUBLISH
X-WR-CALNAME:Ruthin Town Hall
X-ORIGINAL-URL:https://ruthinmarkethall.com
X-WR-CALDESC:Events for Ruthin Town Hall
REFRESH-INTERVAL;VALUE=DURATION:PT1H
X-Robots-Tag:noindex
X-PUBLISHED-TTL:PT1H
BEGIN:VTIMEZONE
TZID:Europe/London
BEGIN:DAYLIGHT
TZOFFSETFROM:+0000
TZOFFSETTO:+0100
TZNAME:BST
DTSTART:20250330T010000
END:DAYLIGHT
BEGIN:STANDARD
TZOFFSETFROM:+0100
TZOFFSETTO:+0000
TZNAME:GMT
DTSTART:20251026T010000
END:STANDARD
BEGIN:DAYLIGHT
TZOFFSETFROM:+0000
TZOFFSETTO:+0100
TZNAME:BST
DTSTART:20260329T010000
END:DAYLIGHT
BEGIN:STANDARD
TZOFFSETFROM:+0100
TZOFFSETTO:+0000
TZNAME:GMT
DTSTART:20261025T010000
END:STANDARD
BEGIN:DAYLIGHT
TZOFFSETFROM:+0000
TZOFFSETTO:+0100
TZNAME:BST
DTSTART:20270328T010000
END:DAYLIGHT
BEGIN:STANDARD
TZOFFSETFROM:+0100
TZOFFSETTO:+0000
TZNAME:GMT
DTSTART:20271031T010000
END:STANDARD
BEGIN:DAYLIGHT
TZOFFSETFROM:+0000
TZOFFSETTO:+0100
TZNAME:BST
DTSTART:20280326T010000
END:DAYLIGHT
BEGIN:STANDARD
TZOFFSETFROM:+0100
TZOFFSETTO:+0000
TZNAME:GMT
DTSTART:20281029T010000
END:STANDARD
END:VTIMEZONE
BEGIN:VEVENT
DTSTART;TZID=Europe/London:20260516T190000
DTEND;TZID=Europe/London:20260516T213000
DTSTAMP:20260424T122843
CREATED:20251119T072246Z
LAST-MODIFIED:20251119T072442Z
UID:6282-1778958000-1778967000@ruthinmarkethall.com
SUMMARY:Explosive Light Orchestra
DESCRIPTION:Explosive Light Orchestra present a powerful tribute to ELO and a celebration of the music of Jeff Lynne. Performing all the classic hits such as Mr Blue Sky\, Livin' Thing\, Telephone Line\, Don't Bring Me Down\, Evil Woman\, Last Train to London\, Turn to Stone and many more...
URL:https://ruthinmarkethall.com/event/explosive-light-orchestra/
LOCATION:Denbighshire
ATTACH;FMTTYPE=image/png:https://ruthinmarkethall.com/wp-content/uploads/2025/11/Screenshot-2025-11-19-at-07.16.02.png
END:VEVENT
BEGIN:VEVENT
DTSTART;TZID=Europe/London:20260522T190000
DTEND;TZID=Europe/London:20270304T190000
DTSTAMP:20260424T122843
CREATED:20260321T104555Z
LAST-MODIFIED:20260327T114645Z
UID:7132-1779476400-1804186800@ruthinmarkethall.com
SUMMARY:The Friday Night Cover Up - Marblehead (Britpop)
DESCRIPTION:The Original Tribute to the classic UK Britpop era.\nDrawing the name from the classic Bluetones song\, Marblehead Johnson\, Marblehead pay tribute Britpop music scene\, recreating classic Britpop anthems with a powerful combination of passion and quality\, bringing the harder-hitting sound that the bands produced in their live shows.\nPlaying songs from Blur\, The Bluetones\, Paul Weller\, The Verve\, Ocean Colour Scene\, Supergrass\, Pulp and\, of course\, Oasis\, glory in the anthems that brought British alternative rock into the mainstream.\nMarblehead are a five-piece\, 100% live band performing across the UK and have previously performed with Razorlight\, The Icicle Works\, SPACE and The Bluetones very own Mark Morriss where he dedicated his song 'Marblehead Johnson' to the band.\nWhy have a tribute to one Britpop band when you can have a tribute to them all. Marblehead - the Original Britpop Experience.
URL:https://ruthinmarkethall.com/event/the-friday-night-cover-up-marblehead-britpop/
LOCATION:Denbighshire
ATTACH;FMTTYPE=image/jpeg:https://ruthinmarkethall.com/wp-content/uploads/2026/03/FNCUweb.jpg
END:VEVENT
BEGIN:VEVENT
DTSTART;TZID=Europe/London:20260523T190000
DTEND;TZID=Europe/London:20260523T220000
DTSTAMP:20260424T122843
CREATED:20251119T073413Z
LAST-MODIFIED:20260409T164106Z
UID:6289-1779562800-1779573600@ruthinmarkethall.com
SUMMARY:Ibiza Project
DESCRIPTION:IBIZA: PROJECT bring the spirit of the White Isle with the heart\, soul and spirit of all those Epic Club Classics you know and love. \nGet ready for a high-energy night of raving to 90's mashups of tunes that defined a generation. \n“It’s impossible not to dance to this band!”
URL:https://ruthinmarkethall.com/event/ibiza-project/
LOCATION:Denbighshire
ATTACH;FMTTYPE=image/png:https://ruthinmarkethall.com/wp-content/uploads/2025/11/image-1.png
END:VEVENT
BEGIN:VEVENT
DTSTART;TZID=Europe/London:20260529T190000
DTEND;TZID=Europe/London:20260529T190000
DTSTAMP:20260424T122843
CREATED:20260321T110541Z
LAST-MODIFIED:20260321T111818Z
UID:7140-1780081200-1780081200@ruthinmarkethall.com
SUMMARY:The Friday Night Cover Up - Pepe Le Moko
DESCRIPTION:Pepe le Moko are a Festival in one band! …from Soulful Ballads\, through timeless Pop Hits and into full-on\, in your face Rock Classics - Pepe le Moko cover all the greats with incredible musicianship and their virtuoso female fronted vocals. \nTheir sole aim is to get you dancing and singing\, with something for everyone. Check out the QR code below for a flavour of what you can look forward to! \n 
URL:https://ruthinmarkethall.com/event/the-friday-night-cover-up-pepe/
LOCATION:Denbighshire
ATTACH;FMTTYPE=image/jpeg:https://ruthinmarkethall.com/wp-content/uploads/2026/03/FNCUweb.jpg
END:VEVENT
END:VCALENDAR