BEGIN:VCALENDAR
VERSION:2.0
PRODID:-//Ruthin Town Hall - ECPv6.15.12.1//NONSGML v1.0//EN
CALSCALE:GREGORIAN
METHOD:PUBLISH
X-WR-CALNAME:Ruthin Town Hall
X-ORIGINAL-URL:https://ruthinmarkethall.com
X-WR-CALDESC:Events for Ruthin Town Hall
REFRESH-INTERVAL;VALUE=DURATION:PT1H
X-Robots-Tag:noindex
X-PUBLISHED-TTL:PT1H
BEGIN:VTIMEZONE
TZID:Europe/London
BEGIN:DAYLIGHT
TZOFFSETFROM:+0000
TZOFFSETTO:+0100
TZNAME:BST
DTSTART:20250330T010000
END:DAYLIGHT
BEGIN:STANDARD
TZOFFSETFROM:+0100
TZOFFSETTO:+0000
TZNAME:GMT
DTSTART:20251026T010000
END:STANDARD
BEGIN:DAYLIGHT
TZOFFSETFROM:+0000
TZOFFSETTO:+0100
TZNAME:BST
DTSTART:20260329T010000
END:DAYLIGHT
BEGIN:STANDARD
TZOFFSETFROM:+0100
TZOFFSETTO:+0000
TZNAME:GMT
DTSTART:20261025T010000
END:STANDARD
BEGIN:DAYLIGHT
TZOFFSETFROM:+0000
TZOFFSETTO:+0100
TZNAME:BST
DTSTART:20270328T010000
END:DAYLIGHT
BEGIN:STANDARD
TZOFFSETFROM:+0100
TZOFFSETTO:+0000
TZNAME:GMT
DTSTART:20271031T010000
END:STANDARD
END:VTIMEZONE
BEGIN:VEVENT
DTSTART;TZID=Europe/London:20260425T190000
DTEND;TZID=Europe/London:20260425T213000
DTSTAMP:20260424T111047
CREATED:20251119T071431Z
LAST-MODIFIED:20260409T163122Z
UID:6272-1777143600-1777152600@ruthinmarkethall.com
SUMMARY:Gary Stewart presents Graceland (40th Anniversary Tour)
DESCRIPTION:Paul Simon’s Graceland stands as one of the most iconic recordings of the 20th century. As the album approaches its 40th anniversary in 2026\, this is your chance to experience its magic live with Gary Stewart’s stunningly authentic recreation. \nBacked by a vibrant six‑piece band\, Gary brings the album’s unmistakable energy to life— from its joyous South African rhythms to its rich harmonies and unforgettable melodies. Their performances don’t just capture the sound of Graceland; they channel the heart and soul that made the original a global classic. \nIf you love the album\, you’ll be swept away. If you’ve never heard it live\, you’re in for something special. \n 
URL:https://ruthinmarkethall.com/event/gary-stewart-presents-graceland-40th-anniversary-tour/
LOCATION:Denbighshire
ATTACH;FMTTYPE=image/png:https://ruthinmarkethall.com/wp-content/uploads/2025/11/22221414911_273191716502302_2984360287656699154_o-e1669731897932.png
END:VEVENT
END:VCALENDAR